﻿BEGIN:VCALENDAR
VERSION:2.0
PRODID:-//wp-events-plugin.com//7.2.3.1//EN
TZID:Europe/Paris
X-WR-TIMEZONE:Europe/Paris
BEGIN:VEVENT
UID:23@etoile-cevenole.fr
DTSTART;TZID=Europe/Paris:20260509T100000
DTEND;TZID=Europe/Paris:20260510T180000
DTSTAMP:20260415T155657Z
URL:https://etoile-cevenole.fr/events/1939/
SUMMARY:Journées NATURE et RURALITÉ
DESCRIPTION:
ATTACH;FMTTYPE=image/jpeg:https://etoile-cevenole.fr/wp-content/uploads/20
 26/04/IMG-Nature-et-Ruralite.jpg
CATEGORIES:À la une,Évènement grand public
END:VEVENT
BEGIN:VTIMEZONE
TZID:Europe/Paris
X-LIC-LOCATION:Europe/Paris
BEGIN:DAYLIGHT
DTSTART:20260329T030000
TZOFFSETFROM:+0100
TZOFFSETTO:+0200
TZNAME:CEST
END:DAYLIGHT
END:VTIMEZONE
END:VCALENDAR