﻿BEGIN:VCALENDAR
VERSION:2.0
PRODID:-//wp-events-plugin.com//7.2.3.1//EN
TZID:Europe/Paris
X-WR-TIMEZONE:Europe/Paris
BEGIN:VEVENT
UID:34@etoile-cevenole.fr
DTSTART;TZID=Europe/Paris:20260429T140000
DTEND;TZID=Europe/Paris:20260429T170000
DTSTAMP:20260419T084504Z
URL:https://etoile-cevenole.fr/events/atelier-a-la-decouverte-du-systeme-s
 olaire/
SUMMARY:Atelier - A la découverte du système solaire
DESCRIPTION:Embarquement immédiat dans le planétarium pour un voyage au c
 oeur du Système solaire ! Les enfants apprennent à reconnaître les plan
 ètes\, réalisent une maquette et repartent avec un coffret de cartes pou
 r continuer l’aventure chez eux.
ATTACH;FMTTYPE=image/jpeg:https://etoile-cevenole.fr/wp-content/uploads/20
 26/04/Ateliers.jpg
CATEGORIES:À la une,Atelier
LOCATION:Ecole municipale d'astronomie d'Alès\, Pôle culturel et scientif
 ique - 155 Faubourg de Rochebelle\, Alès\, 30100\, Occitanie\, France
X-APPLE-STRUCTURED-LOCATION;VALUE=URI;X-ADDRESS=Pôle culturel et scientifi
 que - 155 Faubourg de Rochebelle\, Alès\, 30100\, Occitanie\, France;X-AP
 PLE-RADIUS=100;X-TITLE=Ecole municipale d'astronomie d'Alès:geo:0,0
END:VEVENT
BEGIN:VTIMEZONE
TZID:Europe/Paris
X-LIC-LOCATION:Europe/Paris
BEGIN:DAYLIGHT
DTSTART:20260329T030000
TZOFFSETFROM:+0100
TZOFFSETTO:+0200
TZNAME:CEST
END:DAYLIGHT
END:VTIMEZONE
END:VCALENDAR