﻿BEGIN:VCALENDAR
VERSION:2.0
PRODID:-//wp-events-plugin.com//7.2.3.1//EN
TZID:Europe/Paris
X-WR-TIMEZONE:Europe/Paris
BEGIN:VEVENT
UID:40@etoile-cevenole.fr
DTSTART;TZID=Europe/Paris:20260421T100000
DTEND;TZID=Europe/Paris:20260421T150000
DTSTAMP:20260419T103502Z
URL:https://etoile-cevenole.fr/events/ecole-saint-gervais-sur-roubion-drom
 e/
SUMMARY:EXPOSITION+PLANETARIUM+OBSERVATION
DESCRIPTION:Ecole Saint Gervais sur Roubion (Drôme)\n\n20 CP + 24 CE1 de 1
 0h à 15h 10h/12h  : visite école + planétarium + expo PCSR 12h/13h30 :
  extérieur ou audit (réservé) 13h30/15h : observation du soleil
ATTACH;FMTTYPE=image/jpeg:https://etoile-cevenole.fr/wp-content/uploads/20
 26/04/Image-PLANETARIUMEXPOOBSERVATION.jpg
CATEGORIES:Séance de planétarium + exposition + observation soleil
LOCATION:Etoile Cévenole\, 155 Rue du Faubourg de Rochebelle\, Alès\, Gar
 d\, 30100\, Occitanie\, France
X-APPLE-STRUCTURED-LOCATION;VALUE=URI;X-ADDRESS=155 Rue du Faubourg de Roch
 ebelle\, Alès\, Gard\, 30100\, Occitanie\, France;X-APPLE-RADIUS=100;X-TI
 TLE=Etoile Cévenole:geo:0,0
END:VEVENT
BEGIN:VTIMEZONE
TZID:Europe/Paris
X-LIC-LOCATION:Europe/Paris
BEGIN:DAYLIGHT
DTSTART:20260329T030000
TZOFFSETFROM:+0100
TZOFFSETTO:+0200
TZNAME:CEST
END:DAYLIGHT
END:VTIMEZONE
END:VCALENDAR