﻿BEGIN:VCALENDAR
VERSION:2.0
PRODID:-//wp-events-plugin.com//7.2.3.1//EN
TZID:Europe/Paris
X-WR-TIMEZONE:Europe/Paris
BEGIN:VEVENT
UID:30@etoile-cevenole.fr
DTSTART;TZID=Europe/Paris:20260423T140000
DTEND;TZID=Europe/Paris:20260423T153000
DTSTAMP:20260419T101431Z
URL:https://etoile-cevenole.fr/events/expositionplanetariumobservation-cen
 tre-social-de-la-grand-combe/
SUMMARY:EXPOSITION+PLANETARIUM+OBSERVATION : Centre social de La Grand Comb
 e
DESCRIPTION:
ATTACH;FMTTYPE=image/jpeg:https://etoile-cevenole.fr/wp-content/uploads/20
 26/04/Image-PLANETARIUMEXPOOBSERVATION.jpg
CATEGORIES:Séance de planétarium + exposition + observation soleil
END:VEVENT
BEGIN:VTIMEZONE
TZID:Europe/Paris
X-LIC-LOCATION:Europe/Paris
BEGIN:DAYLIGHT
DTSTART:20260329T030000
TZOFFSETFROM:+0100
TZOFFSETTO:+0200
TZNAME:CEST
END:DAYLIGHT
END:VTIMEZONE
END:VCALENDAR