﻿BEGIN:VCALENDAR
VERSION:2.0
PRODID:-//wp-events-plugin.com//7.2.3.1//EN
TZID:Europe/Paris
X-WR-TIMEZONE:Europe/Paris
BEGIN:VEVENT
UID:35@etoile-cevenole.fr
DTSTART;TZID=Europe/Paris:20260429T180000
DTEND;TZID=Europe/Paris:20260429T193000
DTSTAMP:20260419T084859Z
URL:https://etoile-cevenole.fr/events/gt-15-insectes-et-ciel-etoile/
SUMMARY:GT 15 - Insectes et ciel étoilé
DESCRIPTION:
ATTACH;FMTTYPE=image/jpeg:https://etoile-cevenole.fr/wp-content/uploads/20
 26/04/Image-INSECTES-ET-CIEL-ETOILE.jpg
CATEGORIES:À la une,Réunion GT 15 - I&amp;CE
END:VEVENT
BEGIN:VTIMEZONE
TZID:Europe/Paris
X-LIC-LOCATION:Europe/Paris
BEGIN:DAYLIGHT
DTSTART:20260329T030000
TZOFFSETFROM:+0100
TZOFFSETTO:+0200
TZNAME:CEST
END:DAYLIGHT
END:VTIMEZONE
END:VCALENDAR